BEGIN:VCALENDAR
VERSION:2.0
PRODID:-// - ECPv6.15.20//NONSGML v1.0//EN
CALSCALE:GREGORIAN
METHOD:PUBLISH
X-ORIGINAL-URL:https://stadtsportverband-hattingen.de
X-WR-CALDESC:Veranstaltungen für 
REFRESH-INTERVAL;VALUE=DURATION:PT1H
X-Robots-Tag:noindex
X-PUBLISHED-TTL:PT1H
BEGIN:VTIMEZONE
TZID:UTC
BEGIN:STANDARD
TZOFFSETFROM:+0000
TZOFFSETTO:+0000
TZNAME:UTC
DTSTART:20230101T000000
END:STANDARD
END:VTIMEZONE
BEGIN:VEVENT
DTSTART;VALUE=DATE:20240715
DTEND;VALUE=DATE:20240821
DTSTAMP:20260422T151539
CREATED:20240627T173234Z
LAST-MODIFIED:20240627T173234Z
UID:1106-1721001600-1724198399@stadtsportverband-hattingen.de
SUMMARY:Sport im Park
DESCRIPTION:
URL:https://stadtsportverband-hattingen.de/event/sport-im-park-2/
END:VEVENT
END:VCALENDAR