BEGIN:VCALENDAR
VERSION:2.0
PRODID:-// - ECPv6.15.20//NONSGML v1.0//EN
CALSCALE:GREGORIAN
METHOD:PUBLISH
X-ORIGINAL-URL:https://stadtsportverband-hattingen.de
X-WR-CALDESC:Veranstaltungen für 
REFRESH-INTERVAL;VALUE=DURATION:PT1H
X-Robots-Tag:noindex
X-PUBLISHED-TTL:PT1H
BEGIN:VTIMEZONE
TZID:UTC
BEGIN:STANDARD
TZOFFSETFROM:+0000
TZOFFSETTO:+0000
TZNAME:UTC
DTSTART:20240101T000000
END:STANDARD
END:VTIMEZONE
BEGIN:VEVENT
DTSTART;TZID=UTC:20250119T100000
DTEND;TZID=UTC:20250119T120000
DTSTAMP:20260422T080652
CREATED:20241207T112157Z
LAST-MODIFIED:20241207T112157Z
UID:1221-1737280800-1737288000@stadtsportverband-hattingen.de
SUMMARY:Sparkassen - Cup 2025 Spielefest der G - Junioren (Jung)
DESCRIPTION:Spielplan Minikicker-G (jung)
URL:https://stadtsportverband-hattingen.de/event/sparkassen-cup-2025-spielefest-der-g-junioren-jung/
LOCATION:Schulzentrum Holthausen\, Lindstockstraße 2\, Hattingen\, 45527
END:VEVENT
BEGIN:VEVENT
DTSTART;TZID=UTC:20250119T163000
DTEND;TZID=UTC:20250119T203000
DTSTAMP:20260422T080652
CREATED:20241207T110940Z
LAST-MODIFIED:20241207T110940Z
UID:1198-1737304200-1737318600@stadtsportverband-hattingen.de
SUMMARY:Sparkassen - Cup 2024 für B - Junioren
DESCRIPTION:Spielplan B-Junioren
URL:https://stadtsportverband-hattingen.de/event/sparkassen-cup-2024-fuer-b-junioren/
LOCATION:Schulzentrum Holthausen\, Lindstockstraße 2\, Hattingen\, 45527
END:VEVENT
END:VCALENDAR