BEGIN:VCALENDAR
VERSION:2.0
PRODID:-// - ECPv6.15.20//NONSGML v1.0//EN
CALSCALE:GREGORIAN
METHOD:PUBLISH
X-ORIGINAL-URL:https://stadtsportverband-hattingen.de
X-WR-CALDESC:Veranstaltungen für 
REFRESH-INTERVAL;VALUE=DURATION:PT1H
X-Robots-Tag:noindex
X-PUBLISHED-TTL:PT1H
BEGIN:VTIMEZONE
TZID:UTC
BEGIN:STANDARD
TZOFFSETFROM:+0000
TZOFFSETTO:+0000
TZNAME:UTC
DTSTART:20240101T000000
END:STANDARD
END:VTIMEZONE
BEGIN:VEVENT
DTSTART;TZID=UTC:20250126T090000
DTEND;TZID=UTC:20250126T113000
DTSTAMP:20260422T081136
CREATED:20241207T111455Z
LAST-MODIFIED:20241207T111455Z
UID:1206-1737882000-1737891000@stadtsportverband-hattingen.de
SUMMARY:Sparkassen - Cup 2024 für D2 - Junioren
DESCRIPTION:Spielplan D2-Junioren
URL:https://stadtsportverband-hattingen.de/event/sparkassen-cup-2024-fuer-d2-junioren/
LOCATION:Schulzentrum Holthausen\, Lindstockstraße 2\, Hattingen\, 45527
END:VEVENT
BEGIN:VEVENT
DTSTART;TZID=UTC:20250126T113000
DTEND;TZID=UTC:20250126T163000
DTSTAMP:20260422T081136
CREATED:20241207T111610Z
LAST-MODIFIED:20241207T111610Z
UID:1209-1737891000-1737909000@stadtsportverband-hattingen.de
SUMMARY:Sparkassen - Cup 2020 für E - Junioren (alt)
DESCRIPTION:Spielplan E-Junioren (alt)
URL:https://stadtsportverband-hattingen.de/event/sparkassen-cup-2020-fuer-e-junioren-alt/
LOCATION:Schulzentrum Holthausen\, Lindstockstraße 2\, Hattingen\, 45527
END:VEVENT
END:VCALENDAR