BEGIN:VCALENDAR
VERSION:2.0
PRODID:-// - ECPv6.15.20//NONSGML v1.0//EN
CALSCALE:GREGORIAN
METHOD:PUBLISH
X-ORIGINAL-URL:https://stadtsportverband-hattingen.de
X-WR-CALDESC:Veranstaltungen für 
REFRESH-INTERVAL;VALUE=DURATION:PT1H
X-Robots-Tag:noindex
X-PUBLISHED-TTL:PT1H
BEGIN:VTIMEZONE
TZID:UTC
BEGIN:STANDARD
TZOFFSETFROM:+0000
TZOFFSETTO:+0000
TZNAME:UTC
DTSTART:20250101T000000
END:STANDARD
END:VTIMEZONE
BEGIN:VEVENT
DTSTART;TZID=UTC:20260509T110000
DTEND;TZID=UTC:20260509T160000
DTSTAMP:20260419T174938
CREATED:20260409T181923Z
LAST-MODIFIED:20260409T181923Z
UID:1739-1778324400-1778342400@stadtsportverband-hattingen.de
SUMMARY:Tag der offenen Tür Ruderverein Hattingen
DESCRIPTION:Flyer Tag der offenen Tür
URL:https://stadtsportverband-hattingen.de/event/tag-der-offenen-tuer-ruderverein-hattingen/
LOCATION:Vereinsgelände des Hattinger Rudervereins\, Cliff 10\, Hattingen\, 45525
END:VEVENT
END:VCALENDAR