BEGIN:VCALENDAR
VERSION:2.0
PRODID:-// - ECPv6.15.20//NONSGML v1.0//EN
CALSCALE:GREGORIAN
METHOD:PUBLISH
X-ORIGINAL-URL:https://stadtsportverband-hattingen.de
X-WR-CALDESC:Veranstaltungen für 
REFRESH-INTERVAL;VALUE=DURATION:PT1H
X-Robots-Tag:noindex
X-PUBLISHED-TTL:PT1H
BEGIN:VTIMEZONE
TZID:UTC
BEGIN:STANDARD
TZOFFSETFROM:+0000
TZOFFSETTO:+0000
TZNAME:UTC
DTSTART:20250101T000000
END:STANDARD
END:VTIMEZONE
BEGIN:VEVENT
DTSTART;TZID=UTC:20260517T110000
DTEND;TZID=UTC:20260517T130000
DTSTAMP:20260419T174126
CREATED:20260219T191207Z
LAST-MODIFIED:20260219T191609Z
UID:1690-1779015600-1779022800@stadtsportverband-hattingen.de
SUMMARY:5. ADFC CARGOBIKE-RACE HATTINGEN
DESCRIPTION:5. ADFC CARGOBIKE-RACE HATTINGEN \nSonntag\, 17. Mai 2026 11 bis 13 Uhr \nDie Henrichshütte in Hattingen wird wieder zur Rennstrecke für Lastenräder! \nDer kurze\, knackige Rundkurs verlangt den Lastenradpilotinnen und -piloten \nalles ab. Spannende Rennaction hautnah erleben! \nStartgebühren: kostenfrei! \nAlle Infos in der PDF: \n2026 Ausschreibung Cargobike Race Hattingen.pdf
URL:https://stadtsportverband-hattingen.de/event/5-adfc-cargobike-race-hattingen/
LOCATION:Henrichshütte\, Werksstraße 31\, Hattingen\, 45527
ORGANIZER;CN="ADFC-Ennepe-Ruhr e. V. Ortsgruppe Hattingen":MAILTO:robert.dedden@adfc-en.de
END:VEVENT
END:VCALENDAR