BEGIN:VCALENDAR
VERSION:2.0
PRODID:-// - ECPv6.15.20//NONSGML v1.0//EN
CALSCALE:GREGORIAN
METHOD:PUBLISH
X-ORIGINAL-URL:https://stadtsportverband-hattingen.de
X-WR-CALDESC:Veranstaltungen für 
REFRESH-INTERVAL;VALUE=DURATION:PT1H
X-Robots-Tag:noindex
X-PUBLISHED-TTL:PT1H
BEGIN:VTIMEZONE
TZID:UTC
BEGIN:STANDARD
TZOFFSETFROM:+0000
TZOFFSETTO:+0000
TZNAME:UTC
DTSTART:20230101T000000
END:STANDARD
END:VTIMEZONE
BEGIN:VEVENT
DTSTART;TZID=UTC:20260207T093000
DTEND;TZID=UTC:20260207T163000
DTSTAMP:20260419T142556
CREATED:20251218T172940Z
LAST-MODIFIED:20251218T173027Z
UID:1608-1770456600-1770481800@stadtsportverband-hattingen.de
SUMMARY:Erste Hilfe bei Sportverletzungen
DESCRIPTION:Weitere Informationen unter Facebook bei dem Kreissportbund Ennepe-Ruhr e.V.
URL:https://stadtsportverband-hattingen.de/event/erste-hilfe-bei-sportverletzungen/
END:VEVENT
BEGIN:VEVENT
DTSTART;TZID=UTC:20260113T183000
DTEND;TZID=UTC:20260113T200000
DTSTAMP:20260419T142556
CREATED:20251218T173920Z
LAST-MODIFIED:20251218T173920Z
UID:1622-1768329000-1768334400@stadtsportverband-hattingen.de
SUMMARY:Sportstammtisch
DESCRIPTION:
URL:https://stadtsportverband-hattingen.de/event/sportstammtisch/
LOCATION:Vereinsheim TUS Hattingen\, Wildhagen 15\, Hattingen\, 45525
END:VEVENT
BEGIN:VEVENT
DTSTART;TZID=UTC:20260110T100000
DTEND;TZID=UTC:20260110T140000
DTSTAMP:20260419T142556
CREATED:20251205T182236Z
LAST-MODIFIED:20251205T182339Z
UID:1594-1768039200-1768053600@stadtsportverband-hattingen.de
SUMMARY:Sportflohmarkt
DESCRIPTION:Flyer Sportflohmarkt
URL:https://stadtsportverband-hattingen.de/event/sportflohmarkt/
LOCATION:Holschentor\, Talstraße 8\, 45525 Hattingen\, 45525\, Deutschland
END:VEVENT
BEGIN:VEVENT
DTSTART;TZID=UTC:20251025T123000
DTEND;TZID=UTC:20251025T170000
DTSTAMP:20260419T142556
CREATED:20251007T173251Z
LAST-MODIFIED:20251007T173251Z
UID:1573-1761395400-1761411600@stadtsportverband-hattingen.de
SUMMARY:Rugby Länderspiel Deutschland vs. Norwegen
DESCRIPTION:
URL:https://stadtsportverband-hattingen.de/event/rugby-laenderspiel-deutschland-vs-norwegen/
LOCATION:Althoff-Stadion\, Marxstraße 104\, Welper\, 45527\, Germany
END:VEVENT
BEGIN:VEVENT
DTSTART;VALUE=DATE:20250920
DTEND;VALUE=DATE:20250921
DTSTAMP:20260419T142556
CREATED:20250726T103347Z
LAST-MODIFIED:20250726T103403Z
UID:1517-1758326400-1758412799@stadtsportverband-hattingen.de
SUMMARY:Hattinger Stadtmeisterschaft Pétanque 2025
DESCRIPTION:Liebe Boulefreunde\, \nauch 2025 spielen wir wieder die Stadtmeisterschaft im Boule aus. Ausrichter sind die Winz-Baak-Bouler. \nGespielt wird im Spielsystem „ Triplette“. \nAnmeldeschluss ist der 31.08.25 . Zur besseren Planung bitten wir euch um eine frühzeitige Info an winzbaakbouler@gmail.com. \nDas Startgeld je Team beträgt 10 Euro. \nWo wird gespielt : \nBouleanlage der Winz-Baak-Bouler\nMittelstrasse 16b ( neben Schmidtchens Wiese ) \n45529 Hattingen \nTeilnahmeberechtigt sind alle Hattinger Bürger und Bürgerinnen\, sowie alle Mitglieder Hattinger Boulevereine und Hattinger Boule-Spielgemeinschaften\, auch wenn sie nicht in Hattingen wohnen.
URL:https://stadtsportverband-hattingen.de/event/1517/
LOCATION:Bouleanlage der Winz-Baak-Bouler\, Mittelstrasse 16b\, Hattingen\, 45529
END:VEVENT
BEGIN:VEVENT
DTSTART;TZID=UTC:20250914T110000
DTEND;TZID=UTC:20250914T160000
DTSTAMP:20260419T142556
CREATED:20250720T110225Z
LAST-MODIFIED:20250720T110817Z
UID:1508-1757847600-1757865600@stadtsportverband-hattingen.de
SUMMARY:
DESCRIPTION:Flyer – 20. Hüttenlauf 2025
URL:https://stadtsportverband-hattingen.de/event/1508/
LOCATION:Henrichshütte\, Werksstraße 31\, Hattingen\, 45527
END:VEVENT
BEGIN:VEVENT
DTSTART;TZID=UTC:20250823T160000
DTEND;TZID=UTC:20250824T000000
DTSTAMP:20260419T142556
CREATED:20250805T170036Z
LAST-MODIFIED:20250805T170105Z
UID:1557-1755964800-1755993600@stadtsportverband-hattingen.de
SUMMARY:Sommerparty im Freibad Welper
DESCRIPTION:
URL:https://stadtsportverband-hattingen.de/event/sommergarten-im-freibad-welper/
LOCATION:Freibad Welper\, Marxstraße 99\, Hattingen\, 45527
END:VEVENT
BEGIN:VEVENT
DTSTART;TZID=UTC:20250701T183000
DTEND;TZID=UTC:20250701T200000
DTSTAMP:20260419T142556
CREATED:20250619T091646Z
LAST-MODIFIED:20250619T091646Z
UID:1490-1751394600-1751400000@stadtsportverband-hattingen.de
SUMMARY:Sportstammtisch
DESCRIPTION:Liebe Vertreter*innen des ASBs\, des SSV und des Referats für Sport und Bewegung\, \nim Pakt für den Sport haben wir beschlossen\, dass wir uns regelmäßig – außerhalb der Sitzungsperiode – mit den Akteuren des Hattinger Sports treffen wollen\, um uns über aktuelle Themen auszutauschen. \nEin neuer Termin für diesen Austausch ist geplant:\nWann: Dienstag\, 01. Juli 2025\nUhrzeit: 18.30 – 20.00 Uhr\nWo: Holschentor\, Gruppenraum 3 \nHierzu würden wir Sie gerne einladen. Bitte informieren Sie uns unter (l.meischein@hattingen.de / a.koenig@hattingen.de) über Ihre Teilnahme an dem Termin bis spätestens Montag\, den 30.06.2025. \nMit sportlichen Grüßen \nMatthias Tacke für die Verwaltung\nMichael Kreutz für den ASB\nMichael Heise für den SSV
URL:https://stadtsportverband-hattingen.de/event/sportstammtisch-3/
LOCATION:Holschentor\, Talstraße 8\, 45525 Hattingen\, 45525\, Deutschland
END:VEVENT
BEGIN:VEVENT
DTSTART;TZID=UTC:20250625T180000
DTEND;TZID=UTC:20250625T210000
DTSTAMP:20260419T142556
CREATED:20250607T121643Z
LAST-MODIFIED:20250607T121643Z
UID:1486-1750874400-1750885200@stadtsportverband-hattingen.de
SUMMARY:Sommergespräch Sport und Gesundheit
DESCRIPTION:Liebe Sportfreundinnen und Sportfreunde\, \n\nam 25.6.2025 findet um 18.00 Uhr das Sommergespräch zum Thema Sport  (siehe Flyer) im Rahmen der Gesundheitsforen im Café des Stadtmuseums in Hattingen-Blankenstein\, Marktplatz 1-3 statt.\nDazu möchten wir herzlich einladen.\n\nÜL erhalten bei Teilnahme eine Bescheinigung des SSV/KSB EN\, die drei Lerneinheiten für eine ÜL-Fortbildung bescheinigt. Bitte die Mail an die Übungsleiterinnen und Übungsleiter im Verein weiterleiten.\n\nBitte vorher anmelden per Mail: info@stadtsportverband-hattingen.de oder telefonisch bei der vhs Hattingen\, die die Koordination für „med in Hattingen“ übernommen hat:\n(02324) 204-3513\, -3512\, -3511\n\nFlyer Sommergespräch Sport und Gesundheit
URL:https://stadtsportverband-hattingen.de/event/sommergespraech-sport-und-gesundheit/
LOCATION:Stadtmuseum Hattingen\, Marktplatz 1-3\, Hattingen\, 45525
END:VEVENT
BEGIN:VEVENT
DTSTART;TZID=UTC:20250625T180000
DTEND;TZID=UTC:20250625T183000
DTSTAMP:20260419T142556
CREATED:20250531T114125Z
LAST-MODIFIED:20250531T114136Z
UID:1483-1750874400-1750876200@stadtsportverband-hattingen.de
SUMMARY:Offene Onlinesprechstunde Schutzkonzepte – Kreissportbund Ennepe-Ruhr e.V.
DESCRIPTION:Informationen zu der Sprechstunde  \nZu dieser Thematik eine Doku-Empfehlung: Sportschau: System der Angst – hier anschauen
URL:https://stadtsportverband-hattingen.de/event/offene-onlinesprechstunde-schutzkonzepte-kreissportbund-ennepe-ruhr-e-v/
LOCATION:Online
END:VEVENT
BEGIN:VEVENT
DTSTART;TZID=UTC:20250612T183000
DTEND;TZID=UTC:20250612T200000
DTSTAMP:20260419T142556
CREATED:20250531T113843Z
LAST-MODIFIED:20250531T113843Z
UID:1480-1749753000-1749758400@stadtsportverband-hattingen.de
SUMMARY:Informationsveranstaltung zum neuen Förderprogramm „StartChancen“
DESCRIPTION:Informationen zum Förderprogramm \nOnline über Zoom
URL:https://stadtsportverband-hattingen.de/event/informationsveranstaltung-zum-neuen-foerderprogramm-startchancen/
LOCATION:Online
END:VEVENT
BEGIN:VEVENT
DTSTART;TZID=UTC:20250520T180000
DTEND;TZID=UTC:20250520T203000
DTSTAMP:20260419T142556
CREATED:20250318T173917Z
LAST-MODIFIED:20250413T185620Z
UID:1340-1747764000-1747773000@stadtsportverband-hattingen.de
SUMMARY:Mitgliederversammlung mit Vorstandswahl
DESCRIPTION:Einladung MV 2025 \nTOP Parlamentarischer Teil \n25.04.2024 Protokoll Mitgliederversammlung Stadtsportverband
URL:https://stadtsportverband-hattingen.de/event/mitgliederversammlung-mit-vorstandswahl/
LOCATION:Vereinsheim TUS Hattingen\, Wildhagen 15\, Hattingen\, 45525
END:VEVENT
BEGIN:VEVENT
DTSTART;TZID=UTC:20250517T100000
DTEND;TZID=UTC:20250517T140000
DTSTAMP:20260419T142556
CREATED:20250318T173830Z
LAST-MODIFIED:20250426T170453Z
UID:1337-1747476000-1747490400@stadtsportverband-hattingen.de
SUMMARY:Gesundheitstag mit Bewegung und Sport
DESCRIPTION:Gesundheitstag 2025 Plakat \nProgramm Gesundheitsfest \nPlakat Gesundheitstag
URL:https://stadtsportverband-hattingen.de/event/gesundheitstag-mit-bewegung-und-sport/
LOCATION:Rathaus\, Rathausplatz 16\, Hattingen\, 45525
END:VEVENT
BEGIN:VEVENT
DTSTART;TZID=UTC:20250513T180000
DTEND;TZID=UTC:20250513T200000
DTSTAMP:20260419T142556
CREATED:20250426T170856Z
LAST-MODIFIED:20250426T170856Z
UID:1435-1747159200-1747166400@stadtsportverband-hattingen.de
SUMMARY:Vereine lernen Vereine kennen - Auf eine Stadionwurst
DESCRIPTION:Vereine lernen Vereine kennen 2025
URL:https://stadtsportverband-hattingen.de/event/vereine-lernen-vereine-kennen-auf-eine-stadionwurst/
LOCATION:Vereinsheim der SG Welper\, Marxstraße 100A\, Welper\, 45527
END:VEVENT
BEGIN:VEVENT
DTSTART;TZID=UTC:20250510T110000
DTEND;TZID=UTC:20250510T160000
DTSTAMP:20260419T142556
CREATED:20250318T173722Z
LAST-MODIFIED:20250318T173722Z
UID:1334-1746874800-1746892800@stadtsportverband-hattingen.de
SUMMARY:Tag der offenen Tür im Hattinger Ruderverein
DESCRIPTION:Am 10. Mai findet im Ruderverein Hattingen\, Cliff 10\, der diesjährige Tag der offenen Tür statt.\nAb 11:00 Uhr wird viel Programm für Gross und Klein geboten.
URL:https://stadtsportverband-hattingen.de/event/tag-der-offenen-tuer-im-hattinger-ruderverein/
LOCATION:Ruderverein Hattingen\, Cliff 10\, Hattingen
END:VEVENT
BEGIN:VEVENT
DTSTART;TZID=UTC:20250404T180000
DTEND;TZID=UTC:20250404T213000
DTSTAMP:20260419T142556
CREATED:20250112T165927Z
LAST-MODIFIED:20250112T170239Z
UID:1231-1743789600-1743802200@stadtsportverband-hattingen.de
SUMMARY:Sportlerehrung
DESCRIPTION:Sportlerehrung Ausschreibung \nUhrzeit steht noch nicht fest \nRückmeldung Ehrenamt Sportlerehrung \nRückmeldung Sportler-innen Mannschaften für 2024 \nEhrungsrichtlinien2024 \n 
URL:https://stadtsportverband-hattingen.de/event/sportlerehrung-2/
LOCATION:Aula der Gesamtschule Welper\, Marxstraße\, Welper\, Deutschland
END:VEVENT
BEGIN:VEVENT
DTSTART;TZID=UTC:20250126T113000
DTEND;TZID=UTC:20250126T163000
DTSTAMP:20260419T142556
CREATED:20241207T121610Z
LAST-MODIFIED:20241207T121610Z
UID:1209-1737891000-1737909000@stadtsportverband-hattingen.de
SUMMARY:Sparkassen - Cup 2020 für E - Junioren (alt)
DESCRIPTION:Spielplan E-Junioren (alt)
URL:https://stadtsportverband-hattingen.de/event/sparkassen-cup-2020-fuer-e-junioren-alt/
LOCATION:Schulzentrum Holthausen\, Lindstockstraße 2\, Hattingen\, 45527
END:VEVENT
BEGIN:VEVENT
DTSTART;TZID=UTC:20250126T090000
DTEND;TZID=UTC:20250126T113000
DTSTAMP:20260419T142556
CREATED:20241207T121455Z
LAST-MODIFIED:20241207T121455Z
UID:1206-1737882000-1737891000@stadtsportverband-hattingen.de
SUMMARY:Sparkassen - Cup 2024 für D2 - Junioren
DESCRIPTION:Spielplan D2-Junioren
URL:https://stadtsportverband-hattingen.de/event/sparkassen-cup-2024-fuer-d2-junioren/
LOCATION:Schulzentrum Holthausen\, Lindstockstraße 2\, Hattingen\, 45527
END:VEVENT
BEGIN:VEVENT
DTSTART;TZID=UTC:20250125T140000
DTEND;TZID=UTC:20250125T203000
DTSTAMP:20260419T142556
CREATED:20241207T121146Z
LAST-MODIFIED:20241207T121146Z
UID:1201-1737813600-1737837000@stadtsportverband-hattingen.de
SUMMARY:Sparkassen - Cup 2025 für C-Jugend
DESCRIPTION:Spielplan C-Jugend
URL:https://stadtsportverband-hattingen.de/event/sparkassen-cup-2025-fuer-c-jugend/
LOCATION:Schulzentrum Holthausen\, Lindstockstraße 2\, Hattingen\, 45527
END:VEVENT
BEGIN:VEVENT
DTSTART;TZID=UTC:20250125T090000
DTEND;TZID=UTC:20250125T133000
DTSTAMP:20260419T142556
CREATED:20241207T121746Z
LAST-MODIFIED:20241207T121746Z
UID:1212-1737795600-1737811800@stadtsportverband-hattingen.de
SUMMARY:Sparkassen - Cup 2025 für E - Junioren (jung)
DESCRIPTION:Spielplan E-Junioren (jung)
URL:https://stadtsportverband-hattingen.de/event/sparkassen-cup-2025-fuer-e-junioren-jung/
LOCATION:Schulzentrum Holthausen\, Lindstockstraße 2\, Hattingen\, 45527
END:VEVENT
BEGIN:VEVENT
DTSTART;TZID=UTC:20250119T163000
DTEND;TZID=UTC:20250119T203000
DTSTAMP:20260419T142556
CREATED:20241207T120940Z
LAST-MODIFIED:20241207T120940Z
UID:1198-1737304200-1737318600@stadtsportverband-hattingen.de
SUMMARY:Sparkassen - Cup 2024 für B - Junioren
DESCRIPTION:Spielplan B-Junioren
URL:https://stadtsportverband-hattingen.de/event/sparkassen-cup-2024-fuer-b-junioren/
LOCATION:Schulzentrum Holthausen\, Lindstockstraße 2\, Hattingen\, 45527
END:VEVENT
BEGIN:VEVENT
DTSTART;TZID=UTC:20250119T100000
DTEND;TZID=UTC:20250119T120000
DTSTAMP:20260419T142556
CREATED:20241207T122157Z
LAST-MODIFIED:20241207T122157Z
UID:1221-1737280800-1737288000@stadtsportverband-hattingen.de
SUMMARY:Sparkassen - Cup 2025 Spielefest der G - Junioren (Jung)
DESCRIPTION:Spielplan Minikicker-G (jung)
URL:https://stadtsportverband-hattingen.de/event/sparkassen-cup-2025-spielefest-der-g-junioren-jung/
LOCATION:Schulzentrum Holthausen\, Lindstockstraße 2\, Hattingen\, 45527
END:VEVENT
BEGIN:VEVENT
DTSTART;TZID=UTC:20250118T170000
DTEND;TZID=UTC:20250118T203000
DTSTAMP:20260419T142556
CREATED:20241207T120816Z
LAST-MODIFIED:20241207T120843Z
UID:1194-1737219600-1737232200@stadtsportverband-hattingen.de
SUMMARY:Sparkassen - Cup 2025 für A - Junioren
DESCRIPTION:Spielplan A-Junioren
URL:https://stadtsportverband-hattingen.de/event/sparkassen-cup-2025-fuer-a-junioren/
LOCATION:Schulzentrum Holthausen\, Lindstockstraße 2\, Hattingen\, 45527
END:VEVENT
BEGIN:VEVENT
DTSTART;TZID=UTC:20250118T123000
DTEND;TZID=UTC:20250118T163000
DTSTAMP:20260419T142556
CREATED:20241207T121917Z
LAST-MODIFIED:20241207T121917Z
UID:1215-1737203400-1737217800@stadtsportverband-hattingen.de
SUMMARY:Sparkassen - Cup 2025 F - Junioren (Alt)
DESCRIPTION:Spielplan F-Jugend (alt)
URL:https://stadtsportverband-hattingen.de/event/sparkassen-cup-2025-f-junioren-alt/
LOCATION:Schulzentrum Holthausen\, Lindstockstraße 2\, Hattingen\, 45527
END:VEVENT
BEGIN:VEVENT
DTSTART;TZID=UTC:20250118T100000
DTEND;TZID=UTC:20250118T120000
DTSTAMP:20260419T142556
CREATED:20241207T122046Z
LAST-MODIFIED:20241207T122306Z
UID:1218-1737194400-1737201600@stadtsportverband-hattingen.de
SUMMARY:Sparkassen - Cup 2025 Spielefest der G-Junioren (Alt)
DESCRIPTION:Spielplan Minikicker-G (alt)
URL:https://stadtsportverband-hattingen.de/event/sparkassen-cup-2025-spielefest-der-mini-kicker-altjahrgang/
LOCATION:Schulzentrum Holthausen\, Lindstockstraße 2\, Hattingen\, 45527
END:VEVENT
BEGIN:VEVENT
DTSTART;TZID=UTC:20250112T130000
DTEND;TZID=UTC:20250112T180000
DTSTAMP:20260419T142556
CREATED:20241207T120526Z
LAST-MODIFIED:20241207T120526Z
UID:1190-1736686800-1736704800@stadtsportverband-hattingen.de
SUMMARY:Sparkassen - Cup 2025 für Ü40 Mannschaften
DESCRIPTION:Spielplan für Ü40
URL:https://stadtsportverband-hattingen.de/event/sparkassen-cup-2025-fuer-ue40-mannschaften/
LOCATION:Schulzentrum Holthausen\, Lindstockstraße 2\, Hattingen\, 45527
END:VEVENT
BEGIN:VEVENT
DTSTART;TZID=UTC:20250111T140000
DTEND;TZID=UTC:20250111T200000
DTSTAMP:20260419T142556
CREATED:20241207T120241Z
LAST-MODIFIED:20241207T120241Z
UID:1187-1736604000-1736625600@stadtsportverband-hattingen.de
SUMMARY:Sparkassen - Cup 2025 für Ü 32 Mannschaften
DESCRIPTION:Spielplan für Ü32
URL:https://stadtsportverband-hattingen.de/event/sparkassen-cup-2025-fuer-ue-32-mannschaften/
LOCATION:Schulzentrum Holthausen\, Lindstockstraße 2\, Hattingen\, 45527
END:VEVENT
BEGIN:VEVENT
DTSTART;TZID=UTC:20250105T140000
DTEND;TZID=UTC:20250105T200000
DTSTAMP:20260419T142556
CREATED:20241207T115336Z
LAST-MODIFIED:20241207T115336Z
UID:1183-1736085600-1736107200@stadtsportverband-hattingen.de
SUMMARY:Sparkassen-Cup 2025 für 1. Mannschaften
DESCRIPTION:Spielplan für 1. Mannschaften
URL:https://stadtsportverband-hattingen.de/event/sparkassen-cup-2025-fuer-1-mannschaften/
LOCATION:Schulzentrum Holthausen\, Lindstockstraße 2\, Hattingen\, 45527
END:VEVENT
BEGIN:VEVENT
DTSTART;TZID=UTC:20250104T110000
DTEND;TZID=UTC:20250104T180000
DTSTAMP:20260419T142556
CREATED:20241207T115054Z
LAST-MODIFIED:20241207T115350Z
UID:1179-1735988400-1736013600@stadtsportverband-hattingen.de
SUMMARY:Sparkassen-Cup 2025 für Reservemannschaften
DESCRIPTION:Spielplan Reservemannschaften
URL:https://stadtsportverband-hattingen.de/event/sparkassen-cup-fuer-reservemannschaften/
LOCATION:Schulzentrum Holthausen\, Lindstockstraße 2\, Hattingen\, 45527
END:VEVENT
BEGIN:VEVENT
DTSTART;TZID=UTC:20241207T100000
DTEND;TZID=UTC:20241207T150000
DTSTAMP:20260419T142556
CREATED:20241203T194847Z
LAST-MODIFIED:20241203T194847Z
UID:1176-1733565600-1733583600@stadtsportverband-hattingen.de
SUMMARY:Stadtmeisterschaft Judo
DESCRIPTION:Ausschreibung der Stadtmeisterschaft im Judo
URL:https://stadtsportverband-hattingen.de/event/stadtmeisterschaft-judo/
LOCATION:Sporthalle Talstraße\, Talstraße 17\, Hattingen\, 45525
END:VEVENT
END:VCALENDAR