BEGIN:VCALENDAR
VERSION:2.0
PRODID:-// - ECPv6.15.20//NONSGML v1.0//EN
CALSCALE:GREGORIAN
METHOD:PUBLISH
X-ORIGINAL-URL:https://stadtsportverband-hattingen.de
X-WR-CALDESC:Veranstaltungen für 
REFRESH-INTERVAL;VALUE=DURATION:PT1H
X-Robots-Tag:noindex
X-PUBLISHED-TTL:PT1H
BEGIN:VTIMEZONE
TZID:UTC
BEGIN:STANDARD
TZOFFSETFROM:+0000
TZOFFSETTO:+0000
TZNAME:UTC
DTSTART:20230101T000000
END:STANDARD
END:VTIMEZONE
BEGIN:VEVENT
DTSTART;VALUE=DATE:20240715
DTEND;VALUE=DATE:20240821
DTSTAMP:20260422T133855
CREATED:20240627T173234Z
LAST-MODIFIED:20240627T173234Z
UID:1106-1721001600-1724198399@stadtsportverband-hattingen.de
SUMMARY:Sport im Park
DESCRIPTION:
URL:https://stadtsportverband-hattingen.de/event/sport-im-park-2/
END:VEVENT
BEGIN:VEVENT
DTSTART;TZID=UTC:20240816T160000
DTEND;TZID=UTC:20240817T220000
DTSTAMP:20260422T133855
CREATED:20240716T135729Z
LAST-MODIFIED:20240716T135729Z
UID:1118-1723824000-1723932000@stadtsportverband-hattingen.de
SUMMARY:Sommerfest 2024 im Freibad Welper
DESCRIPTION:Plakat Freibad 2024
URL:https://stadtsportverband-hattingen.de/event/sommerfest-2024-im-freibad-welper/
LOCATION:Freibad Welper\, Marxstraße 99\, Hattingen\, 45527
END:VEVENT
BEGIN:VEVENT
DTSTART;TZID=UTC:20240817T110000
DTEND;TZID=UTC:20240817T140000
DTSTAMP:20260422T133855
CREATED:20240715T150134Z
LAST-MODIFIED:20240715T150134Z
UID:1115-1723892400-1723903200@stadtsportverband-hattingen.de
SUMMARY:Kibaz und Jolinchen
DESCRIPTION:
URL:https://stadtsportverband-hattingen.de/event/kibaz-und-jolinchen/
LOCATION:Freibad Welper\, Marxstraße 99\, Hattingen\, 45527
END:VEVENT
END:VCALENDAR