BEGIN:VCALENDAR
VERSION:2.0
PRODID:-// - ECPv6.15.20//NONSGML v1.0//EN
CALSCALE:GREGORIAN
METHOD:PUBLISH
X-ORIGINAL-URL:https://stadtsportverband-hattingen.de
X-WR-CALDESC:Veranstaltungen für 
REFRESH-INTERVAL;VALUE=DURATION:PT1H
X-Robots-Tag:noindex
X-PUBLISHED-TTL:PT1H
BEGIN:VTIMEZONE
TZID:UTC
BEGIN:STANDARD
TZOFFSETFROM:+0000
TZOFFSETTO:+0000
TZNAME:UTC
DTSTART:20240101T000000
END:STANDARD
END:VTIMEZONE
BEGIN:VEVENT
DTSTART;TZID=UTC:20250612T183000
DTEND;TZID=UTC:20250612T200000
DTSTAMP:20260421T225755
CREATED:20250531T093843Z
LAST-MODIFIED:20250531T093843Z
UID:1480-1749753000-1749758400@stadtsportverband-hattingen.de
SUMMARY:Informationsveranstaltung zum neuen Förderprogramm „StartChancen“
DESCRIPTION:Informationen zum Förderprogramm \nOnline über Zoom
URL:https://stadtsportverband-hattingen.de/event/informationsveranstaltung-zum-neuen-foerderprogramm-startchancen/
LOCATION:Online
END:VEVENT
BEGIN:VEVENT
DTSTART;TZID=UTC:20250625T180000
DTEND;TZID=UTC:20250625T183000
DTSTAMP:20260421T225755
CREATED:20250531T094125Z
LAST-MODIFIED:20250531T094136Z
UID:1483-1750874400-1750876200@stadtsportverband-hattingen.de
SUMMARY:Offene Onlinesprechstunde Schutzkonzepte – Kreissportbund Ennepe-Ruhr e.V.
DESCRIPTION:Informationen zu der Sprechstunde  \nZu dieser Thematik eine Doku-Empfehlung: Sportschau: System der Angst – hier anschauen
URL:https://stadtsportverband-hattingen.de/event/offene-onlinesprechstunde-schutzkonzepte-kreissportbund-ennepe-ruhr-e-v/
LOCATION:Online
END:VEVENT
BEGIN:VEVENT
DTSTART;TZID=UTC:20250625T180000
DTEND;TZID=UTC:20250625T210000
DTSTAMP:20260421T225755
CREATED:20250607T101643Z
LAST-MODIFIED:20250607T101643Z
UID:1486-1750874400-1750885200@stadtsportverband-hattingen.de
SUMMARY:Sommergespräch Sport und Gesundheit
DESCRIPTION:Liebe Sportfreundinnen und Sportfreunde\, \n\nam 25.6.2025 findet um 18.00 Uhr das Sommergespräch zum Thema Sport  (siehe Flyer) im Rahmen der Gesundheitsforen im Café des Stadtmuseums in Hattingen-Blankenstein\, Marktplatz 1-3 statt.\nDazu möchten wir herzlich einladen.\n\nÜL erhalten bei Teilnahme eine Bescheinigung des SSV/KSB EN\, die drei Lerneinheiten für eine ÜL-Fortbildung bescheinigt. Bitte die Mail an die Übungsleiterinnen und Übungsleiter im Verein weiterleiten.\n\nBitte vorher anmelden per Mail: info@stadtsportverband-hattingen.de oder telefonisch bei der vhs Hattingen\, die die Koordination für „med in Hattingen“ übernommen hat:\n(02324) 204-3513\, -3512\, -3511\n\nFlyer Sommergespräch Sport und Gesundheit
URL:https://stadtsportverband-hattingen.de/event/sommergespraech-sport-und-gesundheit/
LOCATION:Stadtmuseum Hattingen\, Marktplatz 1-3\, Hattingen\, 45525
END:VEVENT
END:VCALENDAR