BEGIN:VCALENDAR
VERSION:2.0
PRODID:-// - ECPv6.15.20//NONSGML v1.0//EN
CALSCALE:GREGORIAN
METHOD:PUBLISH
X-ORIGINAL-URL:https://stadtsportverband-hattingen.de
X-WR-CALDESC:Veranstaltungen für 
REFRESH-INTERVAL;VALUE=DURATION:PT1H
X-Robots-Tag:noindex
X-PUBLISHED-TTL:PT1H
BEGIN:VTIMEZONE
TZID:UTC
BEGIN:STANDARD
TZOFFSETFROM:+0000
TZOFFSETTO:+0000
TZNAME:UTC
DTSTART:20250101T000000
END:STANDARD
END:VTIMEZONE
BEGIN:VEVENT
DTSTART;VALUE=DATE:20260720
DTEND;VALUE=DATE:20260902
DTSTAMP:20260419T225246
CREATED:20260326T193625Z
LAST-MODIFIED:20260326T193625Z
UID:1736-1784505600-1788307199@stadtsportverband-hattingen.de
SUMMARY:Sport im Park
DESCRIPTION:Auch in diesem Jahr findet wieder Sport im Park statt. \nGenaue Informationen folgen…
URL:https://stadtsportverband-hattingen.de/event/sport-im-park/
END:VEVENT
BEGIN:VEVENT
DTSTART;TZID=UTC:20260912T093000
DTEND;TZID=UTC:20260912T163000
DTSTAMP:20260419T225246
CREATED:20251218T173306Z
LAST-MODIFIED:20251218T173306Z
UID:1614-1789205400-1789230600@stadtsportverband-hattingen.de
SUMMARY:Erste Hilfe bei Sportverletzungen
DESCRIPTION:Weitere Informationen unter Facebook bei dem Kreissportbund Ennepe-Ruhr e.V.
URL:https://stadtsportverband-hattingen.de/event/erste-hilfe-bei-sportverletzungen-3/
END:VEVENT
END:VCALENDAR