BEGIN:VCALENDAR
VERSION:2.0
PRODID:-// - ECPv6.15.20//NONSGML v1.0//EN
CALSCALE:GREGORIAN
METHOD:PUBLISH
X-ORIGINAL-URL:https://stadtsportverband-hattingen.de
X-WR-CALDESC:Veranstaltungen für 
REFRESH-INTERVAL;VALUE=DURATION:PT1H
X-Robots-Tag:noindex
X-PUBLISHED-TTL:PT1H
BEGIN:VTIMEZONE
TZID:UTC
BEGIN:STANDARD
TZOFFSETFROM:+0000
TZOFFSETTO:+0000
TZNAME:UTC
DTSTART:20250101T000000
END:STANDARD
END:VTIMEZONE
BEGIN:VEVENT
DTSTART;TZID=UTC:20260426T140000
DTEND;TZID=UTC:20260426T170000
DTSTAMP:20260419T160523
CREATED:20251218T173656Z
LAST-MODIFIED:20260326T193220Z
UID:1618-1777212000-1777222800@stadtsportverband-hattingen.de
SUMMARY:Bewegt älter werden und gesund bleiben in Hattingen
DESCRIPTION:Handzettel zum downloaden
URL:https://stadtsportverband-hattingen.de/event/bewegt-aelter-werden-und-gesund-bleiben-in-hattingen/
LOCATION:Sporthalle Talstraße\, Talstraße 17\, Hattingen\, 45525
END:VEVENT
END:VCALENDAR